BEGIN:VCALENDAR
VERSION:2.0
PRODID:icalendar-ruby
CALSCALE:GREGORIAN
METHOD:PUBLISH
BEGIN:VEVENT
DTSTAMP:20260424T121021Z
UID:24-984365@firstunited187.tithelysetup5.com
DTSTART:20261029T000000Z
DTEND:20261029T013000Z
CLASS:PUBLIC
CREATED:20260423T215712
DESCRIPTION:
LAST-MODIFIED:20260423T215712
LOCATION:Sanctuary
SUMMARY:Chancel Choir Rehearsal
URL;VALUE=URI:https://www.fumcstephenville.org/events/chancel-choir-rehears
 al/2026-10-28
ATTACH;FILENAME=IMG_2750.jpeg;FMTTYPE=image/jpeg:https://dq5pwpg1q8ru0.clou
 dfront.net/2025/04/09/21/59/59/82212bc5-07c9-40f3-9705-ec8de9962bb2/IMG_27
 50.jpeg
END:VEVENT
END:VCALENDAR
