BEGIN:VCALENDAR
VERSION:2.0
PRODID:icalendar-ruby
CALSCALE:GREGORIAN
METHOD:PUBLISH
BEGIN:VEVENT
DTSTAMP:20260420T182908Z
UID:8-962588@firstunited187.tithelysetup5.com
DTSTART:20260920T150000Z
DTEND:20260920T160000Z
CLASS:PUBLIC
CREATED:20260420T121648
DESCRIPTION:Sunday School
LAST-MODIFIED:20260420T121648
LOCATION:
SUMMARY:Sunday School
URL;VALUE=URI:https://www.fumcstephenville.org/events/sunday-school/2026-09
 -20
ATTACH;FILENAME=war9.jpg;FMTTYPE=image/jpeg:https://dq5pwpg1q8ru0.cloudfron
 t.net/2025/04/09/18/28/54/739d6fc0-ec56-4f24-83e6-7d5128777392/war9.jpg
END:VEVENT
END:VCALENDAR
