BEGIN:VCALENDAR
VERSION:2.0
PRODID:icalendar-ruby
CALSCALE:GREGORIAN
METHOD:PUBLISH
BEGIN:VEVENT
DTSTAMP:20260421T042325Z
UID:8-965579@firstunited187.tithelysetup5.com
DTSTART:20261101T160000Z
DTEND:20261101T170000Z
CLASS:PUBLIC
CREATED:20260420T200225
DESCRIPTION:Sunday School
LAST-MODIFIED:20260420T200225
LOCATION:
SUMMARY:Sunday School
URL;VALUE=URI:https://www.fumcstephenville.org/events/sunday-school/2026-11
 -01
ATTACH;FILENAME=war9.jpg;FMTTYPE=image/jpeg:https://dq5pwpg1q8ru0.cloudfron
 t.net/2025/04/09/18/28/54/739d6fc0-ec56-4f24-83e6-7d5128777392/war9.jpg
END:VEVENT
END:VCALENDAR
