BEGIN:VCALENDAR
VERSION:2.0
PRODID:icalendar-ruby
CALSCALE:GREGORIAN
METHOD:PUBLISH
BEGIN:VEVENT
DTSTAMP:20260421T035916Z
UID:36-966446@firstunited187.tithelysetup5.com
DTSTART:20261025T223000Z
DTEND:20261026T000000Z
CLASS:PUBLIC
CREATED:20260420T200228
DESCRIPTION:
LAST-MODIFIED:20260420T200228
LOCATION:Fellowship Hall
SUMMARY:Youth Fellowship
URL;VALUE=URI:https://www.fumcstephenville.org/events/youth-fellowship/2026
 -10-25
ATTACH;FILENAME=Youth-2025-26-%28Presentation%29-%281%29.jpg;FMTTYPE=image/
 jpeg:https://dq5pwpg1q8ru0.cloudfront.net/2025/10/23/19/59/37/ff3ae8f2-9b9
 0-463d-885d-45229bbe3e8f/Youth-2025-26-%2528Presentation%2529-%25281%2529.
 jpg
END:VEVENT
END:VCALENDAR
